BEGIN:VCALENDAR
PRODID:-//WWVL//NONSGML Calendar//EN
VERSION:2.0
URL:http://www.wwvl.ca/ical.ics?tier=12&team=313
CALSCALE:GREGORIAN
METHOD:PUBLISH
NAME:WWVL - Queens of the Court
X-WR-CALNAME:WWVL - Queens of the Court
REFRESH-INTERVAL;VALUE=DURATION:PT24H
X-PUBLISHED-TTL:PT24H

BEGIN:VEVENT
DTSTART:20260220T181500
DTEND:20260220T194500
DTSTAMP:20260419T192239
UID:ecbd4df986ebf85c8a2873572e804803@wwvl.ca
CREATED:20260223T154407
DESCRIPTION:
LAST-MODIFIED:20260223T154407
SEQUENCE:0
LOCATION:CLR - court: 2
STATUS:CONFIRMED
SUMMARY:Queens of the Court @ Kiss My Pass
TRANSP:OPAQUE
CATEGORIES:WWVL
END:VEVENT

BEGIN:VEVENT
DTSTART:20260303T200000
DTEND:20260303T213000
DTSTAMP:20260419T192239
UID:8c2f64f08271fc4e4351c12acee2a932@wwvl.ca
CREATED:20260303T235013
DESCRIPTION:
LAST-MODIFIED:20260303T235013
SEQUENCE:0
LOCATION:Immanuel Christian School - court: 1
STATUS:CONFIRMED
SUMMARY:Queens of the Court @ NetChix
TRANSP:OPAQUE
CATEGORIES:WWVL
END:VEVENT

BEGIN:VEVENT
DTSTART:20260306T194500
DTEND:20260306T211500
DTSTAMP:20260419T192239
UID:ef80af910fa07870e25b1a4c86d10402@wwvl.ca
CREATED:20260307T141546
DESCRIPTION:
LAST-MODIFIED:20260307T141546
SEQUENCE:0
LOCATION:CLR - court: 2
STATUS:CONFIRMED
SUMMARY:Serving Cervesa @ Queens of the Court
TRANSP:OPAQUE
CATEGORIES:WWVL
END:VEVENT

BEGIN:VEVENT
DTSTART:20260313T181500
DTEND:20260313T194500
DTSTAMP:20260419T192239
UID:b296faad3a199ff1e2c55075e1f544d2@wwvl.ca
CREATED:20260316T105955
DESCRIPTION:
LAST-MODIFIED:20260316T105955
SEQUENCE:0
LOCATION:CLR - court: 2
STATUS:CONFIRMED
SUMMARY:Deep Blue @ Queens of the Court
TRANSP:OPAQUE
CATEGORIES:WWVL
END:VEVENT

BEGIN:VEVENT
DTSTART:20260320T194500
DTEND:20260320T211500
DTSTAMP:20260419T192239
UID:67ec81b79e603104769e55b6febbe4f1@wwvl.ca
CREATED:20260320T232818
DESCRIPTION:
LAST-MODIFIED:20260320T232818
SEQUENCE:0
LOCATION:CLR - court: 1
STATUS:CONFIRMED
SUMMARY:Queens of the Court @ Grant Geese
TRANSP:OPAQUE
CATEGORIES:WWVL
END:VEVENT

BEGIN:VEVENT
DTSTART:20260327T194500
DTEND:20260327T211500
DTSTAMP:20260419T192239
UID:5cec9e1e2fc34196c7c6574825863d16@wwvl.ca
CREATED:20260329T125127
DESCRIPTION:
LAST-MODIFIED:20260329T125127
SEQUENCE:0
LOCATION:CLR - court: 2
STATUS:CONFIRMED
SUMMARY:Mid Life Tacos @ Queens of the Court
TRANSP:OPAQUE
CATEGORIES:WWVL
END:VEVENT

BEGIN:VEVENT
DTSTART:20260410T181500
DTEND:20260410T194500
DTSTAMP:20260419T192239
UID:9deac1b9659067d923084003d2ee75ff@wwvl.ca
CREATED:20260412T104552
DESCRIPTION:
LAST-MODIFIED:20260412T104552
SEQUENCE:0
LOCATION:CLR - court: 1
STATUS:CONFIRMED
SUMMARY:Tá Ok Squad @ Queens of the Court
TRANSP:OPAQUE
CATEGORIES:WWVL
END:VEVENT

END:VCALENDAR