BEGIN:VCALENDAR
PRODID:-//WWVL//NONSGML Calendar//EN
VERSION:2.0
URL:http://www.wwvl.ca/ical.ics?tier=12&team=306
CALSCALE:GREGORIAN
METHOD:PUBLISH
NAME:WWVL - Tá Ok Squad
X-WR-CALNAME:WWVL - Tá Ok Squad
REFRESH-INTERVAL;VALUE=DURATION:PT24H
X-PUBLISHED-TTL:PT24H

BEGIN:VEVENT
DTSTART:20260220T194500
DTEND:20260220T211500
DTSTAMP:20260419T193209
UID:3bd80cc75f3bee69358296a3c4d8f01e@wwvl.ca
CREATED:20260222T193619
DESCRIPTION:
LAST-MODIFIED:20260222T193619
SEQUENCE:0
LOCATION:CLR - court: 2
STATUS:CONFIRMED
SUMMARY:Tá Ok Squad @ Deep Blue
TRANSP:OPAQUE
CATEGORIES:WWVL
END:VEVENT

BEGIN:VEVENT
DTSTART:20260301T200000
DTEND:20260301T213000
DTSTAMP:20260419T193209
UID:a59687b426e9eb30465997eb54862a2e@wwvl.ca
CREATED:20260301T225924
DESCRIPTION:
LAST-MODIFIED:20260301T225924
SEQUENCE:0
LOCATION:CLR - court: 2
STATUS:CONFIRMED
SUMMARY:Kiss My Pass @ Tá Ok Squad
TRANSP:OPAQUE
CATEGORIES:WWVL
END:VEVENT

BEGIN:VEVENT
DTSTART:20260306T181500
DTEND:20260306T194500
DTSTAMP:20260419T193209
UID:28513c6ecd19265370792e81561c6011@wwvl.ca
CREATED:20260306T225838
DESCRIPTION:
LAST-MODIFIED:20260306T225838
SEQUENCE:0
LOCATION:CLR - court: 2
STATUS:CONFIRMED
SUMMARY:Tá Ok Squad @ NetChix
TRANSP:OPAQUE
CATEGORIES:WWVL
END:VEVENT

BEGIN:VEVENT
DTSTART:20260313T181500
DTEND:20260313T194500
DTSTAMP:20260419T193209
UID:2167fcf808b8f383e7e44e25305a08a8@wwvl.ca
CREATED:20260314T133454
DESCRIPTION:
LAST-MODIFIED:20260314T133454
SEQUENCE:0
LOCATION:CLR - court: 1
STATUS:CONFIRMED
SUMMARY:Tá Ok Squad @ Serving Cervesa
TRANSP:OPAQUE
CATEGORIES:WWVL
END:VEVENT

BEGIN:VEVENT
DTSTART:20260320T194500
DTEND:20260320T211500
DTSTAMP:20260419T193209
UID:38838371c3a50f059b8c4894a59c745d@wwvl.ca
CREATED:20260320T233051
DESCRIPTION:
LAST-MODIFIED:20260320T233051
SEQUENCE:0
LOCATION:CLR - court: 2
STATUS:CONFIRMED
SUMMARY:Mid Life Tacos @ Tá Ok Squad
TRANSP:OPAQUE
CATEGORIES:WWVL
END:VEVENT

BEGIN:VEVENT
DTSTART:20260327T181500
DTEND:20260327T194500
DTSTAMP:20260419T193209
UID:2d5b1c6a842b1f669d976472cc52e371@wwvl.ca
CREATED:20260327T222641
DESCRIPTION:
LAST-MODIFIED:20260327T222641
SEQUENCE:0
LOCATION:CLR - court: 2
STATUS:CONFIRMED
SUMMARY:Tá Ok Squad @ Grant Geese
TRANSP:OPAQUE
CATEGORIES:WWVL
END:VEVENT

BEGIN:VEVENT
DTSTART:20260410T181500
DTEND:20260410T194500
DTSTAMP:20260419T193209
UID:9deac1b9659067d923084003d2ee75ff@wwvl.ca
CREATED:20260412T104552
DESCRIPTION:
LAST-MODIFIED:20260412T104552
SEQUENCE:0
LOCATION:CLR - court: 1
STATUS:CONFIRMED
SUMMARY:Tá Ok Squad @ Queens of the Court
TRANSP:OPAQUE
CATEGORIES:WWVL
END:VEVENT

END:VCALENDAR