BEGIN:VCALENDAR
PRODID:-//WWVL//NONSGML Calendar//EN
VERSION:2.0
URL:http://www.wwvl.ca/ical.ics?tier=10&team=304
CALSCALE:GREGORIAN
METHOD:PUBLISH
NAME:WWVL - Set To Go
X-WR-CALNAME:WWVL - Set To Go
REFRESH-INTERVAL;VALUE=DURATION:PT24H
X-PUBLISHED-TTL:PT24H

BEGIN:VEVENT
DTSTART:20260219T183000
DTEND:20260219T200000
DTSTAMP:20260419T113324
UID:869a7463ba2ba84128dc8b6f21e5cee5@wwvl.ca
CREATED:20260222T092053
DESCRIPTION:
LAST-MODIFIED:20260222T092053
SEQUENCE:0
LOCATION:Bronx Park CC - court: 2
STATUS:CONFIRMED
SUMMARY:Set To Go @ Grinders
TRANSP:OPAQUE
CATEGORIES:WWVL
END:VEVENT

BEGIN:VEVENT
DTSTART:20260226T183000
DTEND:20260226T200000
DTSTAMP:20260419T113324
UID:9b3283db416902b9c8912bc05b9fee78@wwvl.ca
CREATED:20260227T215748
DESCRIPTION:
LAST-MODIFIED:20260227T215748
SEQUENCE:0
LOCATION:Bronx Park CC - court: 1
STATUS:CONFIRMED
SUMMARY:Set To Go @ Safe Sets
TRANSP:OPAQUE
CATEGORIES:WWVL
END:VEVENT

BEGIN:VEVENT
DTSTART:20260305T183000
DTEND:20260305T200000
DTSTAMP:20260419T113324
UID:fbdbfda408198bbfbae637420759f90c@wwvl.ca
CREATED:20260305T233915
DESCRIPTION:
LAST-MODIFIED:20260305T233915
SEQUENCE:0
LOCATION:Bronx Park CC - court: 2
STATUS:CONFIRMED
SUMMARY:Tape Ticklers @ Set To Go
TRANSP:OPAQUE
CATEGORIES:WWVL
END:VEVENT

BEGIN:VEVENT
DTSTART:20260319T183000
DTEND:20260319T200000
DTSTAMP:20260419T113324
UID:174e501a6b5ab618e567a08601e9067c@wwvl.ca
CREATED:20260320T075742
DESCRIPTION:
LAST-MODIFIED:20260320T075742
SEQUENCE:0
LOCATION:Bronx Park CC - court: 2
STATUS:CONFIRMED
SUMMARY:17 Wing Warriors @ Set To Go
TRANSP:OPAQUE
CATEGORIES:WWVL
END:VEVENT

BEGIN:VEVENT
DTSTART:20260326T200000
DTEND:20260326T213000
DTSTAMP:20260419T113324
UID:3e0ae347d3f5af0fff72ffb96b06aef8@wwvl.ca
CREATED:20260327T083232
DESCRIPTION:
LAST-MODIFIED:20260327T083232
SEQUENCE:0
LOCATION:Bronx Park CC - court: 1
STATUS:CONFIRMED
SUMMARY:Set To Go @ Attack Pack
TRANSP:OPAQUE
CATEGORIES:WWVL
END:VEVENT

BEGIN:VEVENT
DTSTART:20260409T183000
DTEND:20260409T200000
DTSTAMP:20260419T113324
UID:a819d06508519977b9bc88e9f00837ca@wwvl.ca
CREATED:20260409T231304
DESCRIPTION:
LAST-MODIFIED:20260409T231304
SEQUENCE:0
LOCATION:Bronx Park CC - court: 2
STATUS:CONFIRMED
SUMMARY:Red Hot Flash @ Set To Go
TRANSP:OPAQUE
CATEGORIES:WWVL
END:VEVENT

BEGIN:VEVENT
DTSTART:20260416T200000
DTEND:20260416T213000
DTSTAMP:20260419T113324
UID:b877c34c37d3ab54dcabe110b6a67214@wwvl.ca
CREATED:20260417T095129
DESCRIPTION:
LAST-MODIFIED:20260417T095129
SEQUENCE:0
LOCATION:Bronx Park CC - court: 2
STATUS:CONFIRMED
SUMMARY:Tremendons @ Set To Go
TRANSP:OPAQUE
CATEGORIES:WWVL
END:VEVENT

END:VCALENDAR