BEGIN:VCALENDAR
PRODID:-//WWVL//NONSGML Calendar//EN
VERSION:2.0
URL:http://www.wwvl.ca/ical.ics?tier=2&team=299
CALSCALE:GREGORIAN
METHOD:PUBLISH
NAME:WWVL - Spitfire
X-WR-CALNAME:WWVL - Spitfire
REFRESH-INTERVAL;VALUE=DURATION:PT24H
X-PUBLISHED-TTL:PT24H

BEGIN:VEVENT
DTSTART:20260223T200000
DTEND:20260223T213000
DTSTAMP:20260421T200321
UID:4b12d1170b1c520116d2b7987dd47140@wwvl.ca
CREATED:20260224T091632
DESCRIPTION:
LAST-MODIFIED:20260224T091632
SEQUENCE:0
LOCATION:Red River North Gym - court: 2
STATUS:CONFIRMED
SUMMARY:Spitfire @ Washed Up
TRANSP:OPAQUE
CATEGORIES:WWVL
END:VEVENT

BEGIN:VEVENT
DTSTART:20260302T200000
DTEND:20260302T213000
DTSTAMP:20260421T200321
UID:74ab171bf4452a0f3ef007a38df8be7e@wwvl.ca
CREATED:20260303T191846
DESCRIPTION:
LAST-MODIFIED:20260303T191846
SEQUENCE:0
LOCATION:Red River North Gym - court: 1
STATUS:CONFIRMED
SUMMARY:Too Legit to Hit @ Spitfire
TRANSP:OPAQUE
CATEGORIES:WWVL
END:VEVENT

BEGIN:VEVENT
DTSTART:20260309T200000
DTEND:20260309T213000
DTSTAMP:20260421T200321
UID:308a4f1079d3c50653dfeca80d85ea6a@wwvl.ca
CREATED:20260311T095740
DESCRIPTION:
LAST-MODIFIED:20260311T095740
SEQUENCE:0
LOCATION:Red River North Gym - court: 1
STATUS:CONFIRMED
SUMMARY:Lady Alpacas @ Spitfire
TRANSP:OPAQUE
CATEGORIES:WWVL
END:VEVENT

BEGIN:VEVENT
DTSTART:20260316T183000
DTEND:20260316T200000
DTSTAMP:20260421T200321
UID:cfc589f72fd5f46aa97a9b69cbad002f@wwvl.ca
CREATED:20260317T213728
DESCRIPTION:
LAST-MODIFIED:20260317T213728
SEQUENCE:0
LOCATION:Red River North Gym - court: 2
STATUS:CONFIRMED
SUMMARY:Spitfire @ Wayouts
TRANSP:OPAQUE
CATEGORIES:WWVL
END:VEVENT

BEGIN:VEVENT
DTSTART:20260323T200000
DTEND:20260323T213000
DTSTAMP:20260421T200321
UID:3408b8d8a758db7c66b435a2c13352e4@wwvl.ca
CREATED:20260325T075115
DESCRIPTION:
LAST-MODIFIED:20260325T075115
SEQUENCE:0
LOCATION:Red River North Gym - court: 2
STATUS:CONFIRMED
SUMMARY:Spitfire @ Slavir
TRANSP:OPAQUE
CATEGORIES:WWVL
END:VEVENT

BEGIN:VEVENT
DTSTART:20260406T183000
DTEND:20260406T200000
DTSTAMP:20260421T200321
UID:98ea09126edd6eea0b7affbbeb0d9b17@wwvl.ca
CREATED:20260409T091905
DESCRIPTION:
LAST-MODIFIED:20260409T091905
SEQUENCE:0
LOCATION:Red River North Gym - court: 1
STATUS:CONFIRMED
SUMMARY:Tip Service @ Spitfire
TRANSP:OPAQUE
CATEGORIES:WWVL
END:VEVENT

BEGIN:VEVENT
DTSTART:20260413T200000
DTEND:20260413T213000
DTSTAMP:20260421T200321
UID:109a44b224f37495f1e879070e9de39e@wwvl.ca
CREATED:20260414T145646
DESCRIPTION:
LAST-MODIFIED:20260414T145646
SEQUENCE:0
LOCATION:Red River North Gym - court: 2
STATUS:CONFIRMED
SUMMARY:Thats What She Set @ Spitfire
TRANSP:OPAQUE
CATEGORIES:WWVL
END:VEVENT

END:VCALENDAR