BEGIN:VCALENDAR
PRODID:-//WWVL//NONSGML Calendar//EN
VERSION:2.0
URL:http://www.wwvl.ca/ical.ics?tier=6&team=295
CALSCALE:GREGORIAN
METHOD:PUBLISH
NAME:WWVL - Palo It!
X-WR-CALNAME:WWVL - Palo It!
REFRESH-INTERVAL;VALUE=DURATION:PT24H
X-PUBLISHED-TTL:PT24H

BEGIN:VEVENT
DTSTART:20260218T200000
DTEND:20260218T213000
DTSTAMP:20260419T070334
UID:006b9646dcba176709eb7a322e61e2b7@wwvl.ca
CREATED:20260223T232922
DESCRIPTION:
LAST-MODIFIED:20260223T232922
SEQUENCE:0
LOCATION:St. Alphonsus - court: 1
STATUS:CONFIRMED
SUMMARY:Blue Streak @ Palo It!
TRANSP:OPAQUE
CATEGORIES:WWVL
END:VEVENT

BEGIN:VEVENT
DTSTART:20260225T183000
DTEND:20260225T200000
DTSTAMP:20260419T070334
UID:ae0bf1def93583b6d5e1cc402d640eb1@wwvl.ca
CREATED:20260309T152521
DESCRIPTION:
LAST-MODIFIED:20260309T152521
SEQUENCE:0
LOCATION:St. Alphonsus - court: 2
STATUS:CONFIRMED
SUMMARY:Palo It! @ Id Hit That
TRANSP:OPAQUE
CATEGORIES:WWVL
END:VEVENT

BEGIN:VEVENT
DTSTART:20260304T200000
DTEND:20260304T213000
DTSTAMP:20260419T070334
UID:6cf8912022f697ca81e17e33dc2993e6@wwvl.ca
CREATED:20260309T152626
DESCRIPTION:
LAST-MODIFIED:20260309T152626
SEQUENCE:0
LOCATION:St. Alphonsus - court: 2
STATUS:CONFIRMED
SUMMARY:Palo It! @ Overkill
TRANSP:OPAQUE
CATEGORIES:WWVL
END:VEVENT

BEGIN:VEVENT
DTSTART:20260311T183000
DTEND:20260311T200000
DTSTAMP:20260419T070334
UID:ed1dac006b5ef6170e646d7eb9ee2d1a@wwvl.ca
CREATED:20260313T141915
DESCRIPTION:
LAST-MODIFIED:20260313T141915
SEQUENCE:0
LOCATION:St. Alphonsus - court: 1
STATUS:CONFIRMED
SUMMARY:Swings of Leon @ Palo It!
TRANSP:OPAQUE
CATEGORIES:WWVL
END:VEVENT

BEGIN:VEVENT
DTSTART:20260318T183000
DTEND:20260318T200000
DTSTAMP:20260419T070334
UID:aa00165fed22acf7b3370d43ab14a4aa@wwvl.ca
CREATED:20260322T225716
DESCRIPTION:
LAST-MODIFIED:20260322T225716
SEQUENCE:0
LOCATION:St. Alphonsus - court: 2
STATUS:CONFIRMED
SUMMARY:George Blaurock @ Palo It!
TRANSP:OPAQUE
CATEGORIES:WWVL
END:VEVENT

BEGIN:VEVENT
DTSTART:20260325T183000
DTEND:20260325T200000
DTSTAMP:20260419T070334
UID:7496bfb74b0737a432d357c6de4b50d0@wwvl.ca
CREATED:20260405T100921
DESCRIPTION:
LAST-MODIFIED:20260405T100921
SEQUENCE:0
LOCATION:St. Alphonsus - court: 1
STATUS:CONFIRMED
SUMMARY:Palo It! @ Bannock Bumps
TRANSP:OPAQUE
CATEGORIES:WWVL
END:VEVENT

BEGIN:VEVENT
DTSTART:20260408T200000
DTEND:20260408T213000
DTSTAMP:20260419T070334
UID:77e8db907380e5d3997fe840c6578cbe@wwvl.ca
CREATED:20260415T225329
DESCRIPTION:
LAST-MODIFIED:20260415T225329
SEQUENCE:0
LOCATION:St. Alphonsus - court: 1
STATUS:CONFIRMED
SUMMARY:Palo It! @ Ketchup &amp; Liquor
TRANSP:OPAQUE
CATEGORIES:WWVL
END:VEVENT

END:VCALENDAR