BEGIN:VCALENDAR
PRODID:-//WWVL//NONSGML Calendar//EN
VERSION:2.0
URL:http://www.wwvl.ca/ical.ics?tier=6&team=193
CALSCALE:GREGORIAN
METHOD:PUBLISH
NAME:WWVL - Ketchup & Liquor
X-WR-CALNAME:WWVL - Ketchup & Liquor
REFRESH-INTERVAL;VALUE=DURATION:PT24H
X-PUBLISHED-TTL:PT24H

BEGIN:VEVENT
DTSTART:20260218T183000
DTEND:20260218T200000
DTSTAMP:20260419T070720
UID:e4628797d1c5b2d9e119f892f43f3d6d@wwvl.ca
CREATED:20260223T231216
DESCRIPTION:
LAST-MODIFIED:20260223T231216
SEQUENCE:0
LOCATION:St. Alphonsus - court: 1
STATUS:CONFIRMED
SUMMARY:Ketchup &amp; Liquor @ Id Hit That
TRANSP:OPAQUE
CATEGORIES:WWVL
END:VEVENT

BEGIN:VEVENT
DTSTART:20260225T183000
DTEND:20260225T200000
DTSTAMP:20260419T070720
UID:6f31db0cab7c10ab173107e1f53376b8@wwvl.ca
CREATED:20260303T224549
DESCRIPTION:
LAST-MODIFIED:20260303T224549
SEQUENCE:0
LOCATION:St. Alphonsus - court: 1
STATUS:CONFIRMED
SUMMARY:Overkill @ Ketchup &amp; Liquor
TRANSP:OPAQUE
CATEGORIES:WWVL
END:VEVENT

BEGIN:VEVENT
DTSTART:20260304T183000
DTEND:20260304T200000
DTSTAMP:20260419T070720
UID:ac1aacca91030c5cdb835cad7f32b4c6@wwvl.ca
CREATED:20260309T152611
DESCRIPTION:
LAST-MODIFIED:20260309T152611
SEQUENCE:0
LOCATION:St. Alphonsus - court: 2
STATUS:CONFIRMED
SUMMARY:Swings of Leon @ Ketchup &amp; Liquor
TRANSP:OPAQUE
CATEGORIES:WWVL
END:VEVENT

BEGIN:VEVENT
DTSTART:20260311T200000
DTEND:20260311T213000
DTSTAMP:20260419T070720
UID:3bdc5ed6ff858caa0570f4910fa1d8d7@wwvl.ca
CREATED:20260313T141531
DESCRIPTION:
LAST-MODIFIED:20260313T141531
SEQUENCE:0
LOCATION:St. Alphonsus - court: 1
STATUS:CONFIRMED
SUMMARY:Blue Streak @ Ketchup &amp; Liquor
TRANSP:OPAQUE
CATEGORIES:WWVL
END:VEVENT

BEGIN:VEVENT
DTSTART:20260318T183000
DTEND:20260318T200000
DTSTAMP:20260419T070720
UID:4698ab0024dfee6b08645663214f71d6@wwvl.ca
CREATED:20260322T225543
DESCRIPTION:
LAST-MODIFIED:20260322T225543
SEQUENCE:0
LOCATION:St. Alphonsus - court: 1
STATUS:CONFIRMED
SUMMARY:Ketchup &amp; Liquor @ Bannock Bumps
TRANSP:OPAQUE
CATEGORIES:WWVL
END:VEVENT

BEGIN:VEVENT
DTSTART:20260325T200000
DTEND:20260325T213000
DTSTAMP:20260419T070720
UID:1d73ce2a7a702db385aa9056c7a0ff13@wwvl.ca
CREATED:20260405T100901
DESCRIPTION:
LAST-MODIFIED:20260405T100901
SEQUENCE:0
LOCATION:St. Alphonsus - court: 1
STATUS:CONFIRMED
SUMMARY:Ketchup &amp; Liquor @ George Blaurock
TRANSP:OPAQUE
CATEGORIES:WWVL
END:VEVENT

BEGIN:VEVENT
DTSTART:20260408T200000
DTEND:20260408T213000
DTSTAMP:20260419T070720
UID:77e8db907380e5d3997fe840c6578cbe@wwvl.ca
CREATED:20260415T225329
DESCRIPTION:
LAST-MODIFIED:20260415T225329
SEQUENCE:0
LOCATION:St. Alphonsus - court: 1
STATUS:CONFIRMED
SUMMARY:Palo It! @ Ketchup &amp; Liquor
TRANSP:OPAQUE
CATEGORIES:WWVL
END:VEVENT

END:VCALENDAR