BEGIN:VCALENDAR
PRODID:-//WWVL//NONSGML Calendar//EN
VERSION:2.0
URL:http://www.wwvl.ca/ical.ics?tier=12&team=187
CALSCALE:GREGORIAN
METHOD:PUBLISH
NAME:WWVL - Kiss My Pass
X-WR-CALNAME:WWVL - Kiss My Pass
REFRESH-INTERVAL;VALUE=DURATION:PT24H
X-PUBLISHED-TTL:PT24H

BEGIN:VEVENT
DTSTART:20260220T181500
DTEND:20260220T194500
DTSTAMP:20260419T192558
UID:ecbd4df986ebf85c8a2873572e804803@wwvl.ca
CREATED:20260223T154407
DESCRIPTION:
LAST-MODIFIED:20260223T154407
SEQUENCE:0
LOCATION:CLR - court: 2
STATUS:CONFIRMED
SUMMARY:Queens of the Court @ Kiss My Pass
TRANSP:OPAQUE
CATEGORIES:WWVL
END:VEVENT

BEGIN:VEVENT
DTSTART:20260301T200000
DTEND:20260301T213000
DTSTAMP:20260419T192558
UID:a59687b426e9eb30465997eb54862a2e@wwvl.ca
CREATED:20260301T225924
DESCRIPTION:
LAST-MODIFIED:20260301T225924
SEQUENCE:0
LOCATION:CLR - court: 2
STATUS:CONFIRMED
SUMMARY:Kiss My Pass @ Tá Ok Squad
TRANSP:OPAQUE
CATEGORIES:WWVL
END:VEVENT

BEGIN:VEVENT
DTSTART:20260306T181500
DTEND:20260306T194500
DTSTAMP:20260419T192558
UID:a624873c42ee905ecc113ce243187740@wwvl.ca
CREATED:20260307T140905
DESCRIPTION:
LAST-MODIFIED:20260307T140905
SEQUENCE:0
LOCATION:CLR - court: 1
STATUS:CONFIRMED
SUMMARY:Grant Geese @ Kiss My Pass
TRANSP:OPAQUE
CATEGORIES:WWVL
END:VEVENT

BEGIN:VEVENT
DTSTART:20260313T194500
DTEND:20260313T211500
DTSTAMP:20260419T192558
UID:f004a7ecc4215ef1a36afca580fd6380@wwvl.ca
CREATED:20260313T230950
DESCRIPTION:
LAST-MODIFIED:20260313T230950
SEQUENCE:0
LOCATION:CLR - court: 2
STATUS:CONFIRMED
SUMMARY:Mid Life Tacos @ Kiss My Pass
TRANSP:OPAQUE
CATEGORIES:WWVL
END:VEVENT

BEGIN:VEVENT
DTSTART:20260320T181500
DTEND:20260320T194500
DTSTAMP:20260419T192558
UID:f36b63f4ca5d8a47097f5c0b69d9d306@wwvl.ca
CREATED:20260320T232900
DESCRIPTION:
LAST-MODIFIED:20260320T232900
SEQUENCE:0
LOCATION:CLR - court: 2
STATUS:CONFIRMED
SUMMARY:Kiss My Pass @ Serving Cervesa
TRANSP:OPAQUE
CATEGORIES:WWVL
END:VEVENT

BEGIN:VEVENT
DTSTART:20260327T194500
DTEND:20260327T211500
DTSTAMP:20260419T192558
UID:c876da2dc35e298b13f5ce07b724065a@wwvl.ca
CREATED:20260327T222641
DESCRIPTION:
LAST-MODIFIED:20260327T222641
SEQUENCE:0
LOCATION:CLR - court: 1
STATUS:CONFIRMED
SUMMARY:NetChix @ Kiss My Pass
TRANSP:OPAQUE
CATEGORIES:WWVL
END:VEVENT

BEGIN:VEVENT
DTSTART:20260410T194500
DTEND:20260410T211500
DTSTAMP:20260419T192558
UID:ea4617226119a78dda076158cbaef41d@wwvl.ca
CREATED:20260411T014920
DESCRIPTION:
LAST-MODIFIED:20260411T014920
SEQUENCE:0
LOCATION:CLR - court: 2
STATUS:CONFIRMED
SUMMARY:Kiss My Pass @ Deep Blue
TRANSP:OPAQUE
CATEGORIES:WWVL
END:VEVENT

END:VCALENDAR