BEGIN:VCALENDAR
PRODID:-//WWVL//NONSGML Calendar//EN
VERSION:2.0
URL:http://www.wwvl.ca/ical.ics?tier=10&team=180
CALSCALE:GREGORIAN
METHOD:PUBLISH
NAME:WWVL - 17 Wing Warriors
X-WR-CALNAME:WWVL - 17 Wing Warriors
REFRESH-INTERVAL;VALUE=DURATION:PT24H
X-PUBLISHED-TTL:PT24H

BEGIN:VEVENT
DTSTART:20260219T200000
DTEND:20260219T213000
DTSTAMP:20260419T113231
UID:4fb504afa03df952fc9b215310d9d51a@wwvl.ca
CREATED:20260222T092053
DESCRIPTION:
LAST-MODIFIED:20260222T092053
SEQUENCE:0
LOCATION:Bronx Park CC - court: 2
STATUS:CONFIRMED
SUMMARY:Tremendons @ 17 Wing Warriors
TRANSP:OPAQUE
CATEGORIES:WWVL
END:VEVENT

BEGIN:VEVENT
DTSTART:20260226T200000
DTEND:20260226T213000
DTSTAMP:20260419T113231
UID:fec16d1d594dae3de2fc1d8536896760@wwvl.ca
CREATED:20260227T215748
DESCRIPTION:
LAST-MODIFIED:20260227T215748
SEQUENCE:0
LOCATION:Bronx Park CC - court: 2
STATUS:CONFIRMED
SUMMARY:17 Wing Warriors @ Attack Pack
TRANSP:OPAQUE
CATEGORIES:WWVL
END:VEVENT

BEGIN:VEVENT
DTSTART:20260305T200000
DTEND:20260305T213000
DTSTAMP:20260419T113231
UID:07275a4e94ca08b4bbda0f4dac01871e@wwvl.ca
CREATED:20260301T144113
DESCRIPTION:
LAST-MODIFIED:20260301T144113
SEQUENCE:0
LOCATION:Bronx Park CC - court: 1
STATUS:CONFIRMED
SUMMARY:17 Wing Warriors @ Red Hot Flash
TRANSP:OPAQUE
CATEGORIES:WWVL
END:VEVENT

BEGIN:VEVENT
DTSTART:20260319T183000
DTEND:20260319T200000
DTSTAMP:20260419T113231
UID:174e501a6b5ab618e567a08601e9067c@wwvl.ca
CREATED:20260320T075742
DESCRIPTION:
LAST-MODIFIED:20260320T075742
SEQUENCE:0
LOCATION:Bronx Park CC - court: 2
STATUS:CONFIRMED
SUMMARY:17 Wing Warriors @ Set To Go
TRANSP:OPAQUE
CATEGORIES:WWVL
END:VEVENT

BEGIN:VEVENT
DTSTART:20260326T183000
DTEND:20260326T200000
DTSTAMP:20260419T113231
UID:43cc251c33e8376d80f506ae8e4323eb@wwvl.ca
CREATED:20260327T083232
DESCRIPTION:
LAST-MODIFIED:20260327T083232
SEQUENCE:0
LOCATION:Bronx Park CC - court: 1
STATUS:CONFIRMED
SUMMARY:Safe Sets @ 17 Wing Warriors
TRANSP:OPAQUE
CATEGORIES:WWVL
END:VEVENT

BEGIN:VEVENT
DTSTART:20260409T183000
DTEND:20260409T200000
DTSTAMP:20260419T113231
UID:87269806e37b9fe07a7c7aed9ad6f986@wwvl.ca
CREATED:20260410T142233
DESCRIPTION:
LAST-MODIFIED:20260410T142233
SEQUENCE:0
LOCATION:Bronx Park CC - court: 1
STATUS:CONFIRMED
SUMMARY:Tape Ticklers @ 17 Wing Warriors
TRANSP:OPAQUE
CATEGORIES:WWVL
END:VEVENT

BEGIN:VEVENT
DTSTART:20260416T183000
DTEND:20260416T200000
DTSTAMP:20260419T113231
UID:c908ec320f803c559792b5b23ac0688b@wwvl.ca
CREATED:20260417T095129
DESCRIPTION:
LAST-MODIFIED:20260417T095129
SEQUENCE:0
LOCATION:Bronx Park CC - court: 1
STATUS:CONFIRMED
SUMMARY:Grinders @ 17 Wing Warriors
TRANSP:OPAQUE
CATEGORIES:WWVL
END:VEVENT

END:VCALENDAR