BEGIN:VCALENDAR
PRODID:-//WWVL//NONSGML Calendar//EN
VERSION:2.0
URL:http://www.wwvl.ca/ical.ics?tier=12&team=178
CALSCALE:GREGORIAN
METHOD:PUBLISH
NAME:WWVL - Serving Cervesa
X-WR-CALNAME:WWVL - Serving Cervesa
REFRESH-INTERVAL;VALUE=DURATION:PT24H
X-PUBLISHED-TTL:PT24H

BEGIN:VEVENT
DTSTART:20260220T194500
DTEND:20260220T211500
DTSTAMP:20260419T193908
UID:fff75f52998a477f6e7b00e58af8d64a@wwvl.ca
CREATED:20260222T193619
DESCRIPTION:
LAST-MODIFIED:20260222T193619
SEQUENCE:0
LOCATION:CLR - court: 1
STATUS:CONFIRMED
SUMMARY:Grant Geese @ Serving Cervesa
TRANSP:OPAQUE
CATEGORIES:WWVL
END:VEVENT

BEGIN:VEVENT
DTSTART:20260301T191500
DTEND:20260301T204500
DTSTAMP:20260419T193908
UID:3ca7176898afc20f480adfa00ab194bd@wwvl.ca
CREATED:20260301T230041
DESCRIPTION:
LAST-MODIFIED:20260301T230041
SEQUENCE:0
LOCATION:CLR - court: 1
STATUS:CONFIRMED
SUMMARY:Serving Cervesa @ Mid Life Tacos
TRANSP:OPAQUE
CATEGORIES:WWVL
END:VEVENT

BEGIN:VEVENT
DTSTART:20260306T194500
DTEND:20260306T211500
DTSTAMP:20260419T193908
UID:ef80af910fa07870e25b1a4c86d10402@wwvl.ca
CREATED:20260307T141546
DESCRIPTION:
LAST-MODIFIED:20260307T141546
SEQUENCE:0
LOCATION:CLR - court: 2
STATUS:CONFIRMED
SUMMARY:Serving Cervesa @ Queens of the Court
TRANSP:OPAQUE
CATEGORIES:WWVL
END:VEVENT

BEGIN:VEVENT
DTSTART:20260313T181500
DTEND:20260313T194500
DTSTAMP:20260419T193908
UID:2167fcf808b8f383e7e44e25305a08a8@wwvl.ca
CREATED:20260314T133454
DESCRIPTION:
LAST-MODIFIED:20260314T133454
SEQUENCE:0
LOCATION:CLR - court: 1
STATUS:CONFIRMED
SUMMARY:Tá Ok Squad @ Serving Cervesa
TRANSP:OPAQUE
CATEGORIES:WWVL
END:VEVENT

BEGIN:VEVENT
DTSTART:20260320T181500
DTEND:20260320T194500
DTSTAMP:20260419T193908
UID:f36b63f4ca5d8a47097f5c0b69d9d306@wwvl.ca
CREATED:20260320T232900
DESCRIPTION:
LAST-MODIFIED:20260320T232900
SEQUENCE:0
LOCATION:CLR - court: 2
STATUS:CONFIRMED
SUMMARY:Kiss My Pass @ Serving Cervesa
TRANSP:OPAQUE
CATEGORIES:WWVL
END:VEVENT

BEGIN:VEVENT
DTSTART:20260327T181500
DTEND:20260327T194500
DTSTAMP:20260419T193908
UID:1b8058dee2800a7e966dcb494a5f1fed@wwvl.ca
CREATED:20260327T222641
DESCRIPTION:
LAST-MODIFIED:20260327T222641
SEQUENCE:0
LOCATION:CLR - court: 1
STATUS:CONFIRMED
SUMMARY:Serving Cervesa @ Deep Blue
TRANSP:OPAQUE
CATEGORIES:WWVL
END:VEVENT

BEGIN:VEVENT
DTSTART:20260410T194500
DTEND:20260410T211500
DTSTAMP:20260419T193908
UID:1ae6ef6d58b4b5c4120321a9786c100d@wwvl.ca
CREATED:20260411T014850
DESCRIPTION:
LAST-MODIFIED:20260411T014850
SEQUENCE:0
LOCATION:CLR - court: 1
STATUS:CONFIRMED
SUMMARY:Serving Cervesa @ NetChix
TRANSP:OPAQUE
CATEGORIES:WWVL
END:VEVENT

END:VCALENDAR