BEGIN:VCALENDAR
PRODID:-//WWVL//NONSGML Calendar//EN
VERSION:2.0
URL:http://www.wwvl.ca/ical.ics?tier=10&team=174
CALSCALE:GREGORIAN
METHOD:PUBLISH
NAME:WWVL - Grinders
X-WR-CALNAME:WWVL - Grinders
REFRESH-INTERVAL;VALUE=DURATION:PT24H
X-PUBLISHED-TTL:PT24H

BEGIN:VEVENT
DTSTART:20260219T183000
DTEND:20260219T200000
DTSTAMP:20260419T114039
UID:869a7463ba2ba84128dc8b6f21e5cee5@wwvl.ca
CREATED:20260222T092053
DESCRIPTION:
LAST-MODIFIED:20260222T092053
SEQUENCE:0
LOCATION:Bronx Park CC - court: 2
STATUS:CONFIRMED
SUMMARY:Set To Go @ Grinders
TRANSP:OPAQUE
CATEGORIES:WWVL
END:VEVENT

BEGIN:VEVENT
DTSTART:20260226T200000
DTEND:20260226T213000
DTSTAMP:20260419T114039
UID:fce9b873e83319fcd5ff9de7e0cbecae@wwvl.ca
CREATED:20260227T215748
DESCRIPTION:
LAST-MODIFIED:20260227T215748
SEQUENCE:0
LOCATION:Bronx Park CC - court: 1
STATUS:CONFIRMED
SUMMARY:Grinders @ Tremendons
TRANSP:OPAQUE
CATEGORIES:WWVL
END:VEVENT

BEGIN:VEVENT
DTSTART:20260305T183000
DTEND:20260305T200000
DTSTAMP:20260419T114039
UID:b83972e1aa62776ab9d15abf7ef6f387@wwvl.ca
CREATED:20260305T233915
DESCRIPTION:
LAST-MODIFIED:20260305T233915
SEQUENCE:0
LOCATION:Bronx Park CC - court: 1
STATUS:CONFIRMED
SUMMARY:Attack Pack @ Grinders
TRANSP:OPAQUE
CATEGORIES:WWVL
END:VEVENT

BEGIN:VEVENT
DTSTART:20260319T183000
DTEND:20260319T200000
DTSTAMP:20260419T114039
UID:8d421e49d5885b59c7aec69404514e3d@wwvl.ca
CREATED:20260320T075742
DESCRIPTION:
LAST-MODIFIED:20260320T075742
SEQUENCE:0
LOCATION:Bronx Park CC - court: 1
STATUS:CONFIRMED
SUMMARY:Red Hot Flash @ Grinders
TRANSP:OPAQUE
CATEGORIES:WWVL
END:VEVENT

BEGIN:VEVENT
DTSTART:20260326T183000
DTEND:20260326T200000
DTSTAMP:20260419T114039
UID:f68f71e02426501de7280446bc879b42@wwvl.ca
CREATED:20260327T083232
DESCRIPTION:
LAST-MODIFIED:20260327T083232
SEQUENCE:0
LOCATION:Bronx Park CC - court: 2
STATUS:CONFIRMED
SUMMARY:Grinders @ Tape Ticklers
TRANSP:OPAQUE
CATEGORIES:WWVL
END:VEVENT

BEGIN:VEVENT
DTSTART:20260409T200000
DTEND:20260409T213000
DTSTAMP:20260419T114039
UID:3829a518596ae2a37b09a417753e5328@wwvl.ca
CREATED:20260409T231304
DESCRIPTION:
LAST-MODIFIED:20260409T231304
SEQUENCE:0
LOCATION:Bronx Park CC - court: 1
STATUS:CONFIRMED
SUMMARY:Safe Sets @ Grinders
TRANSP:OPAQUE
CATEGORIES:WWVL
END:VEVENT

BEGIN:VEVENT
DTSTART:20260416T183000
DTEND:20260416T200000
DTSTAMP:20260419T114039
UID:c908ec320f803c559792b5b23ac0688b@wwvl.ca
CREATED:20260417T095129
DESCRIPTION:
LAST-MODIFIED:20260417T095129
SEQUENCE:0
LOCATION:Bronx Park CC - court: 1
STATUS:CONFIRMED
SUMMARY:Grinders @ 17 Wing Warriors
TRANSP:OPAQUE
CATEGORIES:WWVL
END:VEVENT

END:VCALENDAR