BEGIN:VCALENDAR
PRODID:-//WWVL//NONSGML Calendar//EN
VERSION:2.0
URL:http://www.wwvl.ca/ical.ics?tier=10&team=150
CALSCALE:GREGORIAN
METHOD:PUBLISH
NAME:WWVL - Tremendons
X-WR-CALNAME:WWVL - Tremendons
REFRESH-INTERVAL;VALUE=DURATION:PT24H
X-PUBLISHED-TTL:PT24H

BEGIN:VEVENT
DTSTART:20260219T200000
DTEND:20260219T213000
DTSTAMP:20260419T112827
UID:4fb504afa03df952fc9b215310d9d51a@wwvl.ca
CREATED:20260222T092053
DESCRIPTION:
LAST-MODIFIED:20260222T092053
SEQUENCE:0
LOCATION:Bronx Park CC - court: 2
STATUS:CONFIRMED
SUMMARY:Tremendons @ 17 Wing Warriors
TRANSP:OPAQUE
CATEGORIES:WWVL
END:VEVENT

BEGIN:VEVENT
DTSTART:20260226T200000
DTEND:20260226T213000
DTSTAMP:20260419T112827
UID:fce9b873e83319fcd5ff9de7e0cbecae@wwvl.ca
CREATED:20260227T215748
DESCRIPTION:
LAST-MODIFIED:20260227T215748
SEQUENCE:0
LOCATION:Bronx Park CC - court: 1
STATUS:CONFIRMED
SUMMARY:Grinders @ Tremendons
TRANSP:OPAQUE
CATEGORIES:WWVL
END:VEVENT

BEGIN:VEVENT
DTSTART:20260305T200000
DTEND:20260305T213000
DTSTAMP:20260419T112827
UID:daa172021eb0b28d756615925486f129@wwvl.ca
CREATED:20260305T233915
DESCRIPTION:
LAST-MODIFIED:20260305T233915
SEQUENCE:0
LOCATION:Bronx Park CC - court: 2
STATUS:CONFIRMED
SUMMARY:Tremendons @ Safe Sets
TRANSP:OPAQUE
CATEGORIES:WWVL
END:VEVENT

BEGIN:VEVENT
DTSTART:20260319T200000
DTEND:20260319T213000
DTSTAMP:20260419T112827
UID:d119a02021ce7f2804da25fd308f24b0@wwvl.ca
CREATED:20260320T075742
DESCRIPTION:
LAST-MODIFIED:20260320T075742
SEQUENCE:0
LOCATION:Bronx Park CC - court: 2
STATUS:CONFIRMED
SUMMARY:Tremendons @ Tape Ticklers
TRANSP:OPAQUE
CATEGORIES:WWVL
END:VEVENT

BEGIN:VEVENT
DTSTART:20260326T200000
DTEND:20260326T213000
DTSTAMP:20260419T112827
UID:b709742d89f8d9a642a31abd93dfd49d@wwvl.ca
CREATED:20260327T083232
DESCRIPTION:
LAST-MODIFIED:20260327T083232
SEQUENCE:0
LOCATION:Bronx Park CC - court: 2
STATUS:CONFIRMED
SUMMARY:Red Hot Flash @ Tremendons
TRANSP:OPAQUE
CATEGORIES:WWVL
END:VEVENT

BEGIN:VEVENT
DTSTART:20260409T200000
DTEND:20260409T213000
DTSTAMP:20260419T112827
UID:3fe89afd10fe28f02efde3670e20da4a@wwvl.ca
CREATED:20260409T231304
DESCRIPTION:
LAST-MODIFIED:20260409T231304
SEQUENCE:0
LOCATION:Bronx Park CC - court: 2
STATUS:CONFIRMED
SUMMARY:Tremendons @ Attack Pack
TRANSP:OPAQUE
CATEGORIES:WWVL
END:VEVENT

BEGIN:VEVENT
DTSTART:20260416T200000
DTEND:20260416T213000
DTSTAMP:20260419T112827
UID:b877c34c37d3ab54dcabe110b6a67214@wwvl.ca
CREATED:20260417T095129
DESCRIPTION:
LAST-MODIFIED:20260417T095129
SEQUENCE:0
LOCATION:Bronx Park CC - court: 2
STATUS:CONFIRMED
SUMMARY:Tremendons @ Set To Go
TRANSP:OPAQUE
CATEGORIES:WWVL
END:VEVENT

END:VCALENDAR